BEGIN:VCALENDAR
VERSION:2.0
PRODID:-//Tukios.com/
BEGIN:VEVENT
UID:c39bab2f-1ee5-4357-954c-3fc2fa0c483f@www.griffinfuneralhomehobbs.com
DTSTAMP:20260424T212103Z
DTSTART:20260501T000000Z
DTEND:20260501T020000Z
SUMMARY:Visitation
DESCRIPTION:
URL:https://www.griffinfuneralhomehobbs.com/obituaries/billy-baker-jr
LOCATION: 401 N Dalmont St  Hobbs NM 88240
GEO:32.7042415;-103.1352459
END:VEVENT
END:VCALENDAR