BEGIN:VCALENDAR
VERSION:2.0
PRODID:-//Tukios.com/
BEGIN:VEVENT
UID:da75ff87-6883-4fee-b8e9-878561e2a990@www.griffinfuneralhomehobbs.com
DTSTAMP:20260424T212611Z
DTSTART:20260501T200000Z
DTEND:20260501T210000Z
SUMMARY:Funeral Service
DESCRIPTION:
URL:https://www.griffinfuneralhomehobbs.com/obituaries/billy-baker-jr
LOCATION: 1201 E Skelly St  Hobbs NM 88240
GEO:32.6899527;-103.1222063
END:VEVENT
END:VCALENDAR