BEGIN:VCALENDAR
VERSION:2.0
PRODID:-//Tukios.com/
BEGIN:VEVENT
UID:8bba93b9-a2af-4a21-85b8-26d7ae5e4fed@www.griffinfuneralhomehobbs.com
DTSTAMP:20260424T212330Z
DTSTART:20260501T223000Z
DTEND:20260501T233000Z
SUMMARY:Burial
DESCRIPTION:
URL:https://www.griffinfuneralhomehobbs.com/obituaries/billy-baker-jr
LOCATION: 1900 E Stanolind Rd  Hobbs NM 88240
GEO:32.68567;-103.121172
END:VEVENT
END:VCALENDAR