BEGIN:VCALENDAR
VERSION:2.0
PRODID:-//Tukios.com/
BEGIN:VEVENT
UID:cbf4cf76-25af-4508-81b0-2f690d377c76@www.griffinfuneralhomehobbs.com
DTSTAMP:20260420T183056Z
DTSTART:20260420T180000Z
DTEND:20260421T020000Z
SUMMARY:Visitation
DESCRIPTION:
URL:https://www.griffinfuneralhomehobbs.com/obituaries/dolores-gomez
LOCATION: 401 N Dalmont St  Hobbs NM 88240
GEO:32.7042415;-103.1352459
END:VEVENT
END:VCALENDAR