BEGIN:VCALENDAR
VERSION:2.0
PRODID:-//Tukios.com/
BEGIN:VEVENT
UID:b28df01d-a27b-4c71-9319-7ca8b9fb66d8@www.griffinfuneralhomehobbs.com
DTSTAMP:20260420T182920Z
DTSTART:20260421T170000Z
DTEND:20260421T180000Z
SUMMARY:Funeral Service
DESCRIPTION:
URL:https://www.griffinfuneralhomehobbs.com/obituaries/dolores-gomez
LOCATION: 401 N Dalmont St  Hobbs NM 88240
GEO:32.7042415;-103.1352459
END:VEVENT
END:VCALENDAR