BEGIN:VCALENDAR
VERSION:2.0
PRODID:-//Tukios.com/
BEGIN:VEVENT
UID:34d4f89f-9d1e-4ee6-bcda-52e327998b3b@www.griffinfuneralhomehobbs.com
DTSTAMP:20260421T024409Z
DTSTART:20260427T190000Z
DTEND:20260428T030000Z
SUMMARY:Visitation
DESCRIPTION:
URL:https://www.griffinfuneralhomehobbs.com/obituaries/pedro-cobos-barraza
LOCATION: 401 N Dalmont St  Hobbs NM 88240
GEO:32.7042415;-103.1352459
END:VEVENT
END:VCALENDAR