BEGIN:VCALENDAR
VERSION:2.0
PRODID:-//Tukios.com/
BEGIN:VEVENT
UID:964a261f-b9f2-4e74-80b2-10dd729b9340@www.griffinfuneralhomehobbs.com
DTSTAMP:20260421T024250Z
DTSTART:20260428T010000Z
DTEND:20260428T020000Z
SUMMARY:Rosary
DESCRIPTION:
URL:https://www.griffinfuneralhomehobbs.com/obituaries/pedro-cobos-barraza
LOCATION: 401 N Dalmont St  Hobbs NM 88240
GEO:32.7042415;-103.1352459
END:VEVENT
END:VCALENDAR