BEGIN:VCALENDAR
VERSION:2.0
PRODID:-//Tukios.com/
BEGIN:VEVENT
UID:4b44fa7f-e283-44b7-a885-eeda736ae4cc@www.griffinfuneralhomehobbs.com
DTSTAMP:20260421T024240Z
DTSTART:20260428T180000Z
DTEND:20260428T190000Z
SUMMARY:Funeral Service
DESCRIPTION:
URL:https://www.griffinfuneralhomehobbs.com/obituaries/pedro-cobos-barraza
LOCATION: 914 S Selman St  Hobbs NM 88240
GEO:32.6920504;-103.1296155
END:VEVENT
END:VCALENDAR