BEGIN:VCALENDAR
VERSION:2.0
PRODID:-//Tukios.com/
BEGIN:VEVENT
UID:eab2da12-26e7-4089-b79f-56c9d51d44b2@www.griffinfuneralhomehobbs.com
DTSTAMP:20260421T023919Z
DTSTART:20260428T193000Z
DTEND:20260428T203000Z
SUMMARY:Burial
DESCRIPTION:
URL:https://www.griffinfuneralhomehobbs.com/obituaries/pedro-cobos-barraza
LOCATION: 1900 E Stanolind Rd  Hobbs NM 88240
GEO:32.68567;-103.121172
END:VEVENT
END:VCALENDAR